BEGIN:VCALENDAR
VERSION:2.0
PRODID:SchoolNow
CALSCALE:GREGORIAN
BEGIN:VEVENT
UID:e89ffd36-cc7a-11f0-ab0d-021084ed564f
DTSTAMP:20260420T032007Z
SUMMARY:School Board Meeting Time
URL;VALUE=URI:https://staging.dorchesterschool.org/calendar/8812280/school-
 board-meeting-time
DTSTART:20260309T223000Z
DTEND:20260309T233000Z
END:VEVENT
END:VCALENDAR
