BEGIN:VCALENDAR
VERSION:2.0
PRODID:SchoolNow
CALSCALE:GREGORIAN
BEGIN:VEVENT
UID:e8f5da30-cc7a-11f0-93c8-021084ed564f
DTSTAMP:20260420T032007Z
SUMMARY:Basketball: Boys JH/MS Game Time vs. East Butler @ Dorchester High 
 School
LOCATION:Dorchester High School\, 506 W 9th St\, Dorchester\, NE 68343\, US
 A
URL;VALUE=URI:https://staging.dorchesterschool.org/calendar/8812438/basketb
 all-boys-jh-ms-game-time-vs-east-butler-dorchester-high-school
DTSTART:20260203T200000Z
DTEND:20260203T210000Z
END:VEVENT
END:VCALENDAR
