BEGIN:VCALENDAR
VERSION:2.0
PRODID:SchoolNow
CALSCALE:GREGORIAN
BEGIN:VEVENT
UID:e8f5f092-cc7a-11f0-9b66-021084ed564f
DTSTAMP:20260420T032008Z
SUMMARY:Basketball: Boys Varsity State Tournament
URL;VALUE=URI:https://staging.dorchesterschool.org/calendar/8812463/basketb
 all-boys-varsity-state-tournament
DTSTART;VALUE=DATE:20260312
DTEND;VALUE=DATE:20260313
END:VEVENT
END:VCALENDAR
