BEGIN:VCALENDAR
VERSION:2.0
PRODID:SchoolNow
CALSCALE:GREGORIAN
BEGIN:VEVENT
UID:e93de686-cc7a-11f0-b2e8-021084ed564f
DTSTAMP:20260420T032007Z
SUMMARY:Elementary Community Clean Up
URL;VALUE=URI:https://staging.dorchesterschool.org/calendar/8812485/element
 ary-community-clean-up
DTSTART;VALUE=DATE:20260508
DTEND;VALUE=DATE:20260509
END:VEVENT
END:VCALENDAR
