BEGIN:VCALENDAR
VERSION:2.0
PRODID:SchoolNow
CALSCALE:GREGORIAN
BEGIN:VEVENT
UID:e93df914-cc7a-11f0-ace4-021084ed564f
DTSTAMP:20260420T032008Z
SUMMARY:Dismissal - Professional Development
URL;VALUE=URI:https://staging.dorchesterschool.org/calendar/8812504/dismiss
 al-professional-development
DTSTART:20260327T190000Z
DTEND:20260327T200000Z
END:VEVENT
END:VCALENDAR
